BEGIN:VCALENDAR
VERSION:2.0
PRODID:-//Edlio Inc//Edlio Calendar//EN
CALSCALE:GREGORIAN
METHOD:PUBLISH
X-WR-CALNAME:P3 Geometry - Chaparral Middle School
X-ORIGINAL-URL:https://chaparralmiddle.wvusd.org
X-WR-CALDESC:Events calendar for chaparralmiddle.wvusd.org
X-WR-TIMEZONE:US/Pacific
REFRESH-INTERVAL;VALUE=DURATION:PT1H
X-Robots-Tag:noindex
X-PUBLISHED-TTL:PT1H
BEGIN:VTIMEZONE
TZID:US/Pacific
BEGIN:STANDARD
TZOFFSETFROM:-0700
TZOFFSETTO:-0800
DTSTART:20071104T020000
RRULE:FREQ=YEARLY;BYMONTH=11;BYDAY=1SU
END:STANDARD
BEGIN:DAYLIGHT
TZOFFSETFROM:-0800
TZOFFSETTO:-0700
DTSTART:20070311T020000
RRULE:FREQ=YEARLY;BYMONTH=3;BYDAY=2SU
END:DAYLIGHT
END:VTIMEZONE
BEGIN:VTIMEZONE
TZID:US/East-Indiana
BEGIN:STANDARD
TZOFFSETFROM:-0500
TZOFFSETTO:-0500
DTSTART:19701025T020000
END:STANDARD
END:VTIMEZONE
BEGIN:VTIMEZONE
TZID:US/Eastern
BEGIN:STANDARD
TZOFFSETFROM:-0400
TZOFFSETTO:-0500
DTSTART:19701025T020000
RRULE:FREQ=YEARLY;BYMONTH=10;BYDAY=-1SU;UNTIL=20070311T020000
END:STANDARD
BEGIN:STANDARD
TZOFFSETFROM:-0400
TZOFFSETTO:-0500
DTSTART:20071104T020000
RRULE:FREQ=YEARLY;BYMONTH=11;BYDAY=1SU
END:STANDARD
BEGIN:DAYLIGHT
TZOFFSETFROM:-0500
TZOFFSETTO:-0400
DTSTART:19870405T020000
RRULE:FREQ=YEARLY;BYMONTH=4;BYDAY=1SU;UNTIL=20061029T020000
END:DAYLIGHT
BEGIN:DAYLIGHT
TZOFFSETFROM:-0500
TZOFFSETTO:-0400
DTSTART:20070311T020000
RRULE:FREQ=YEARLY;BYMONTH=3;BYDAY=2SU
END:DAYLIGHT
END:VTIMEZONE
BEGIN:VTIMEZONE
TZID:US/Michigan
BEGIN:STANDARD
TZOFFSETFROM:-0400
TZOFFSETTO:-0500
DTSTART:19701025T020000
RRULE:FREQ=YEARLY;BYMONTH=10;BYDAY=-1SU;UNTIL=20070311T020000
END:STANDARD
BEGIN:STANDARD
TZOFFSETFROM:-0400
TZOFFSETTO:-0500
DTSTART:20071104T020000
RRULE:FREQ=YEARLY;BYMONTH=11;BYDAY=1SU
END:STANDARD
BEGIN:DAYLIGHT
TZOFFSETFROM:-0500
TZOFFSETTO:-0400
DTSTART:19870405T020000
RRULE:FREQ=YEARLY;BYMONTH=4;BYDAY=1SU;UNTIL=20061029T020000
END:DAYLIGHT
BEGIN:DAYLIGHT
TZOFFSETFROM:-0500
TZOFFSETTO:-0400
DTSTART:20070311T020000
RRULE:FREQ=YEARLY;BYMONTH=3;BYDAY=2SU
END:DAYLIGHT
END:VTIMEZONE
BEGIN:VTIMEZONE
TZID:US/Central
BEGIN:STANDARD
TZOFFSETFROM:-0500
TZOFFSETTO:-0600
DTSTART:19701025T020000
RRULE:FREQ=YEARLY;BYMONTH=10;BYDAY=-1SU;UNTIL=20070311T020000
END:STANDARD
BEGIN:STANDARD
TZOFFSETFROM:-0500
TZOFFSETTO:-0600
DTSTART:20071104T020000
RRULE:FREQ=YEARLY;BYMONTH=11;BYDAY=1SU
END:STANDARD
BEGIN:DAYLIGHT
TZOFFSETFROM:-0600
TZOFFSETTO:-0500
DTSTART:19870405T020000
RRULE:FREQ=YEARLY;BYMONTH=4;BYDAY=1SU;UNTIL=20061029T020000
END:DAYLIGHT
BEGIN:DAYLIGHT
TZOFFSETFROM:-0600
TZOFFSETTO:-0500
DTSTART:20070311T020000
RRULE:FREQ=YEARLY;BYMONTH=3;BYDAY=2SU
END:DAYLIGHT
END:VTIMEZONE
BEGIN:VTIMEZONE
TZID:US/Mountain
BEGIN:STANDARD
TZOFFSETFROM:-0600
TZOFFSETTO:-0700
DTSTART:19701025T020000
RRULE:FREQ=YEARLY;BYMONTH=10;BYDAY=-1SU;UNTIL=20070311T020000
END:STANDARD
BEGIN:STANDARD
TZOFFSETFROM:-0600
TZOFFSETTO:-0700
DTSTART:20071104T020000
RRULE:FREQ=YEARLY;BYMONTH=11;BYDAY=1SU
END:STANDARD
BEGIN:DAYLIGHT
TZOFFSETFROM:-0700
TZOFFSETTO:-0600
DTSTART:19870405T020000
RRULE:FREQ=YEARLY;BYMONTH=4;BYDAY=1SU;UNTIL=20061029T020000
END:DAYLIGHT
BEGIN:DAYLIGHT
TZOFFSETFROM:-0700
TZOFFSETTO:-0600
DTSTART:20070311T020000
RRULE:FREQ=YEARLY;BYMONTH=3;BYDAY=2SU
END:DAYLIGHT
END:VTIMEZONE
BEGIN:VTIMEZONE
TZID:US/Arizona
BEGIN:STANDARD
TZOFFSETFROM:-0700
TZOFFSETTO:-0700
DTSTART:19701025T020000
END:STANDARD
END:VTIMEZONE
BEGIN:VTIMEZONE
TZID:US/Pacific
BEGIN:STANDARD
TZOFFSETFROM:-0700
TZOFFSETTO:-0800
DTSTART:19701025T020000
RRULE:FREQ=YEARLY;BYMONTH=10;BYDAY=-1SU;UNTIL=20070311T020000
END:STANDARD
BEGIN:STANDARD
TZOFFSETFROM:-0700
TZOFFSETTO:-0800
DTSTART:20071104T020000
RRULE:FREQ=YEARLY;BYMONTH=11;BYDAY=1SU
END:STANDARD
BEGIN:DAYLIGHT
TZOFFSETFROM:-0800
TZOFFSETTO:-0700
DTSTART:19870405T020000
RRULE:FREQ=YEARLY;BYMONTH=4;BYDAY=1SU;UNTIL=20061029T020000
END:DAYLIGHT
BEGIN:DAYLIGHT
TZOFFSETFROM:-0800
TZOFFSETTO:-0700
DTSTART:20070311T020000
RRULE:FREQ=YEARLY;BYMONTH=3;BYDAY=2SU
END:DAYLIGHT
END:VTIMEZONE
BEGIN:VTIMEZONE
TZID:US/Alaska
BEGIN:STANDARD
TZOFFSETFROM:-0800
TZOFFSETTO:-0900
DTSTART:19701025T020000
RRULE:FREQ=YEARLY;BYMONTH=10;BYDAY=-1SU;UNTIL=20070311T020000
END:STANDARD
BEGIN:STANDARD
TZOFFSETFROM:-0800
TZOFFSETTO:-0900
DTSTART:20071104T020000
RRULE:FREQ=YEARLY;BYMONTH=11;BYDAY=1SU
END:STANDARD
BEGIN:DAYLIGHT
TZOFFSETFROM:-0900
TZOFFSETTO:-0800
DTSTART:19870405T020000
RRULE:FREQ=YEARLY;BYMONTH=4;BYDAY=1SU;UNTIL=20061029T020000
END:DAYLIGHT
BEGIN:DAYLIGHT
TZOFFSETFROM:-0900
TZOFFSETTO:-0800
DTSTART:20070311T020000
RRULE:FREQ=YEARLY;BYMONTH=3;BYDAY=2SU
END:DAYLIGHT
END:VTIMEZONE
BEGIN:VTIMEZONE
TZID:US/Hawaii
BEGIN:STANDARD
TZOFFSETFROM:-1000
TZOFFSETTO:-1000
DTSTART:19701025T020000
END:STANDARD
END:VTIMEZONE
BEGIN:VTIMEZONE
TZID:US/Aleutian
BEGIN:STANDARD
TZOFFSETFROM:-1000
TZOFFSETTO:-1000
DTSTART:19701025T020000
END:STANDARD
END:VTIMEZONE
BEGIN:VTIMEZONE
TZID:US/Samoa
BEGIN:STANDARD
TZOFFSETFROM:-1100
TZOFFSETTO:-1100
DTSTART:19701025T020000
END:STANDARD
END:VTIMEZONE
BEGIN:VEVENT
UID:11762649@chaparralmiddle.wvusd.org#20260424
SEQUENCE:0
CREATED:20260421T153504Z
LAST-MODIFIED:20260421T153504Z
DTSTART;TZID=US/Pacific:20260424T075900
DTEND;TZID=US/Pacific:20260424T080000
SUMMARY:Assignment: 11.5: 4-10even\, 13\, 14-26even\, 27\, 28-32even
URL:https://chaparralmiddle.wvusd.org/apps/classes/1061645/assignments/#hw-
 11762649
ORGANIZER;CN="Edlio Calendar":MAILTO:noreply@chaparralmiddle.wvusd.org
DTSTAMP:20260424T100246Z
END:VEVENT
BEGIN:VEVENT
UID:11762650@chaparralmiddle.wvusd.org#20260424
SEQUENCE:0
CREATED:20260421T153504Z
LAST-MODIFIED:20260421T153504Z
DTSTART;TZID=US/Pacific:20260424T075900
DTEND;TZID=US/Pacific:20260424T080000
SUMMARY:Assignment: 11.5: 4-10even\, 13\, 14-26even\, 27\, 28-32even
URL:https://chaparralmiddle.wvusd.org/apps/classes/1061645/assignments/#hw-
 11762650
ORGANIZER;CN="Edlio Calendar":MAILTO:noreply@chaparralmiddle.wvusd.org
DTSTAMP:20260424T100246Z
END:VEVENT
BEGIN:VEVENT
UID:11762651@chaparralmiddle.wvusd.org#20260424
SEQUENCE:0
CREATED:20260421T153505Z
LAST-MODIFIED:20260421T153505Z
DTSTART;TZID=US/Pacific:20260424T075900
DTEND;TZID=US/Pacific:20260424T080000
SUMMARY:Assignment: 11.5: 4-10even\, 13\, 14-26even\, 27\, 28-32even
URL:https://chaparralmiddle.wvusd.org/apps/classes/1061645/assignments/#hw-
 11762651
ORGANIZER;CN="Edlio Calendar":MAILTO:noreply@chaparralmiddle.wvusd.org
DTSTAMP:20260424T100246Z
END:VEVENT
BEGIN:VEVENT
UID:11784156@chaparralmiddle.wvusd.org#20260424
SEQUENCE:0
CREATED:20260422T173323Z
LAST-MODIFIED:20260422T173323Z
DTSTART;TZID=US/Pacific:20260424T075900
DTEND;TZID=US/Pacific:20260424T080000
SUMMARY:Assignment: 11.6: 3\, 4-8even\, 9\, 12\, 14-16\, 18\, 20\, 26\, 28
URL:https://chaparralmiddle.wvusd.org/apps/classes/1061645/assignments/#hw-
 11784156
ORGANIZER;CN="Edlio Calendar":MAILTO:noreply@chaparralmiddle.wvusd.org
DTSTAMP:20260424T100246Z
END:VEVENT
BEGIN:VEVENT
UID:11784157@chaparralmiddle.wvusd.org#20260424
SEQUENCE:0
CREATED:20260422T173323Z
LAST-MODIFIED:20260422T173323Z
DTSTART;TZID=US/Pacific:20260424T075900
DTEND;TZID=US/Pacific:20260424T080000
SUMMARY:Assignment: 11.6: 3\, 4-8even\, 9\, 12\, 14-16\, 18\, 20\, 26\, 28
URL:https://chaparralmiddle.wvusd.org/apps/classes/1061645/assignments/#hw-
 11784157
ORGANIZER;CN="Edlio Calendar":MAILTO:noreply@chaparralmiddle.wvusd.org
DTSTAMP:20260424T100246Z
END:VEVENT
BEGIN:VEVENT
UID:11784161@chaparralmiddle.wvusd.org#20260424
SEQUENCE:0
CREATED:20260422T173324Z
LAST-MODIFIED:20260422T173324Z
DTSTART;TZID=US/Pacific:20260424T075900
DTEND;TZID=US/Pacific:20260424T080000
SUMMARY:Assignment: 11.6: 3\, 4-8even\, 9\, 12\, 14-16\, 18\, 20\, 26\, 28
URL:https://chaparralmiddle.wvusd.org/apps/classes/1061645/assignments/#hw-
 11784161
ORGANIZER;CN="Edlio Calendar":MAILTO:noreply@chaparralmiddle.wvusd.org
DTSTAMP:20260424T100246Z
END:VEVENT
BEGIN:VEVENT
UID:11746570@chaparralmiddle.wvusd.org#20260428
SEQUENCE:0
CREATED:20260420T173356Z
LAST-MODIFIED:20260420T173356Z
DTSTART;TZID=US/Pacific:20260428T075900
DTEND;TZID=US/Pacific:20260428T080000
SUMMARY:Assignment: Ch. 11. Practice Test
URL:https://chaparralmiddle.wvusd.org/apps/classes/1061645/assignments/#hw-
 11746570
ORGANIZER;CN="Edlio Calendar":MAILTO:noreply@chaparralmiddle.wvusd.org
DTSTAMP:20260424T100246Z
END:VEVENT
BEGIN:VEVENT
UID:11746572@chaparralmiddle.wvusd.org#20260428
SEQUENCE:0
CREATED:20260420T173356Z
LAST-MODIFIED:20260420T173356Z
DTSTART;TZID=US/Pacific:20260428T075900
DTEND;TZID=US/Pacific:20260428T080000
SUMMARY:Assignment: Ch. 11. Practice Test
URL:https://chaparralmiddle.wvusd.org/apps/classes/1061645/assignments/#hw-
 11746572
ORGANIZER;CN="Edlio Calendar":MAILTO:noreply@chaparralmiddle.wvusd.org
DTSTAMP:20260424T100246Z
END:VEVENT
BEGIN:VEVENT
UID:11746574@chaparralmiddle.wvusd.org#20260428
SEQUENCE:0
CREATED:20260420T173356Z
LAST-MODIFIED:20260420T173356Z
DTSTART;TZID=US/Pacific:20260428T075900
DTEND;TZID=US/Pacific:20260428T080000
SUMMARY:Assignment: Ch. 11. Practice Test
URL:https://chaparralmiddle.wvusd.org/apps/classes/1061645/assignments/#hw-
 11746574
ORGANIZER;CN="Edlio Calendar":MAILTO:noreply@chaparralmiddle.wvusd.org
DTSTAMP:20260424T100246Z
END:VEVENT
BEGIN:VEVENT
UID:11746576@chaparralmiddle.wvusd.org#20260428
SEQUENCE:0
CREATED:20260420T173357Z
LAST-MODIFIED:20260420T173357Z
DTSTART;TZID=US/Pacific:20260428T075900
DTEND;TZID=US/Pacific:20260428T080000
SUMMARY:Assignment: Ch. 11. Practice Test
URL:https://chaparralmiddle.wvusd.org/apps/classes/1061645/assignments/#hw-
 11746576
ORGANIZER;CN="Edlio Calendar":MAILTO:noreply@chaparralmiddle.wvusd.org
DTSTAMP:20260424T100246Z
END:VEVENT
BEGIN:VEVENT
UID:11775979@chaparralmiddle.wvusd.org#20260429
SEQUENCE:0
CREATED:20260422T153259Z
LAST-MODIFIED:20260422T153259Z
DTSTART;TZID=US/Pacific:20260429T075900
DTEND;TZID=US/Pacific:20260429T080000
SUMMARY:Assignment: Topic Goal 16
URL:https://chaparralmiddle.wvusd.org/apps/classes/1061645/assignments/#hw-
 11775979
ORGANIZER;CN="Edlio Calendar":MAILTO:noreply@chaparralmiddle.wvusd.org
DTSTAMP:20260424T100246Z
END:VEVENT
BEGIN:VEVENT
UID:11775980@chaparralmiddle.wvusd.org#20260429
SEQUENCE:0
CREATED:20260422T153259Z
LAST-MODIFIED:20260422T153259Z
DTSTART;TZID=US/Pacific:20260429T075900
DTEND;TZID=US/Pacific:20260429T080000
SUMMARY:Assignment: Topic Goal 16
URL:https://chaparralmiddle.wvusd.org/apps/classes/1061645/assignments/#hw-
 11775980
ORGANIZER;CN="Edlio Calendar":MAILTO:noreply@chaparralmiddle.wvusd.org
DTSTAMP:20260424T100246Z
END:VEVENT
BEGIN:VEVENT
UID:11152046@chaparralmiddle.wvusd.org#20260515
SEQUENCE:0
CREATED:20260309T150531Z
LAST-MODIFIED:20260309T150531Z
DTSTART;TZID=US/Pacific:20260515T140400
DTEND;TZID=US/Pacific:20260515T140500
SUMMARY:Assignment: Quarter 4 Topic Goal
URL:https://chaparralmiddle.wvusd.org/apps/classes/1061645/assignments/#hw-
 11152046
ORGANIZER;CN="Edlio Calendar":MAILTO:noreply@chaparralmiddle.wvusd.org
DTSTAMP:20260424T100246Z
END:VEVENT
BEGIN:VEVENT
UID:11746571@chaparralmiddle.wvusd.org#20260505
SEQUENCE:0
CREATED:20260420T173356Z
LAST-MODIFIED:20260420T173356Z
DTSTART;TZID=US/Pacific:20260505T235800
DTEND;TZID=US/Pacific:20260505T235900
SUMMARY:Assignment: Ch. 11 Test
URL:https://chaparralmiddle.wvusd.org/apps/classes/1061645/assignments/#hw-
 11746571
ORGANIZER;CN="Edlio Calendar":MAILTO:noreply@chaparralmiddle.wvusd.org
DTSTAMP:20260424T100246Z
END:VEVENT
BEGIN:VEVENT
UID:11746573@chaparralmiddle.wvusd.org#20260505
SEQUENCE:0
CREATED:20260420T173356Z
LAST-MODIFIED:20260420T173356Z
DTSTART;TZID=US/Pacific:20260505T235800
DTEND;TZID=US/Pacific:20260505T235900
SUMMARY:Assignment: Ch. 11 Test
URL:https://chaparralmiddle.wvusd.org/apps/classes/1061645/assignments/#hw-
 11746573
ORGANIZER;CN="Edlio Calendar":MAILTO:noreply@chaparralmiddle.wvusd.org
DTSTAMP:20260424T100246Z
END:VEVENT
BEGIN:VEVENT
UID:11746575@chaparralmiddle.wvusd.org#20260505
SEQUENCE:0
CREATED:20260420T173357Z
LAST-MODIFIED:20260420T173357Z
DTSTART;TZID=US/Pacific:20260505T235800
DTEND;TZID=US/Pacific:20260505T235900
SUMMARY:Assignment: Ch. 11 Test
URL:https://chaparralmiddle.wvusd.org/apps/classes/1061645/assignments/#hw-
 11746575
ORGANIZER;CN="Edlio Calendar":MAILTO:noreply@chaparralmiddle.wvusd.org
DTSTAMP:20260424T100246Z
END:VEVENT
BEGIN:VEVENT
UID:11746577@chaparralmiddle.wvusd.org#20260505
SEQUENCE:0
CREATED:20260420T173357Z
LAST-MODIFIED:20260420T173357Z
DTSTART;TZID=US/Pacific:20260505T235800
DTEND;TZID=US/Pacific:20260505T235900
SUMMARY:Assignment: Ch. 11 Test
URL:https://chaparralmiddle.wvusd.org/apps/classes/1061645/assignments/#hw-
 11746577
ORGANIZER;CN="Edlio Calendar":MAILTO:noreply@chaparralmiddle.wvusd.org
DTSTAMP:20260424T100246Z
END:VEVENT
END:VCALENDAR
